BEGIN:VCALENDAR
VERSION:2.0
PRODID:-//Squarespace Inc/Squarespace 6//v6//EN
BEGIN:VEVENT
UID:5a20c6b353450a77d2f5524c@squarespace.com
DTSTAMP:20171201T030442Z
DTSTART:20180924T090000Z
DTEND:20180924T110000Z
SUMMARY:Overcomers Outreach
END:VEVENT
END:VCALENDAR
