BEGIN:VCALENDAR
VERSION:2.0
PRODID:-//Squarespace Inc/Squarespace 6//v6//EN
BEGIN:VEVENT
UID:5ae1c329575d1fed5504e439@squarespace.com
DTSTAMP:20180812T062025Z
DTSTART:20180907T230000Z
DTEND:20180908T070000Z
SUMMARY:Building Better Marriages Course
END:VEVENT
END:VCALENDAR
