BEGIN:VCALENDAR
VERSION:2.0
PRODID:-//Squarespace Inc/Squarespace 6//v6//EN
BEGIN:VEVENT
UID:5a7e3d7671c10b61a582de3a@squarespace.com
DTSTAMP:20180311T045806Z
DTSTART:20180318T010000Z
DTEND:20180325T020000Z
SUMMARY:Mission Week
END:VEVENT
END:VCALENDAR
