BEGIN:VCALENDAR
VERSION:2.0
PRODID:-//Squarespace Inc/Squarespace 6//v6//EN
BEGIN:VEVENT
UID:5c4509f1b914435393b49672@squarespace.com
DTSTAMP:20190121T001158Z
DTSTART:20190406T010000Z
DTEND:20190406T030000Z
SUMMARY:WOK (Without Kids) Lunch at Bundeena Community &amp\; Services Club
END:VEVENT
END:VCALENDAR
