BEGIN:VCALENDAR
VERSION:2.0
PRODID:-//Squarespace Inc/Squarespace 6//v6//EN
BEGIN:VEVENT
UID:5bef7ca00ebbe8ffeaac4e32@squarespace.com
DTSTAMP:20190108T095428Z
DTSTART:20190127T103000Z
DTEND:20190127T113000Z
SUMMARY:Jonah (Summer Series)
END:VEVENT
END:VCALENDAR
