BEGIN:VCALENDAR
VERSION:2.0
PRODID:-//Squarespace Inc/Squarespace 6//v6//EN
BEGIN:VEVENT
UID:5c132eba575d1fee96a7b3c1@squarespace.com
DTSTAMP:20181214T041756Z
DTSTART:20190128T080000Z
DTEND:20190128T100000Z
SUMMARY:Overcomers Outreach
END:VEVENT
END:VCALENDAR
