BEGIN:VCALENDAR
VERSION:2.0
PRODID:-//Squarespace Inc/Squarespace 6//v6//EN
BEGIN:VEVENT
UID:5c3d54a4758d469a54f28795@squarespace.com
DTSTAMP:20190124T025237Z
DTSTART:20190211T070000Z
DTEND:20190211T100000Z
SUMMARY:EQUIP Nights 
END:VEVENT
END:VCALENDAR
