BEGIN:VCALENDAR
VERSION:2.0
PRODID:-//Squarespace Inc/Squarespace 6//v6//EN
BEGIN:VEVENT
UID:5c1af3004ae2376e72330ad5@squarespace.com
DTSTAMP:20181220T014513Z
DTSTART:20190216T023000Z
DTEND:20190216T053000Z
SUMMARY:Craft &amp\; Chat
END:VEVENT
END:VCALENDAR
