BEGIN:VCALENDAR
VERSION:2.0
PRODID:-//Squarespace Inc/Squarespace 6//v6//EN
BEGIN:VEVENT
UID:5c4924c8898583c2513e1987@squarespace.com
DTSTAMP:20190131T045213Z
DTSTART:20190220T230000Z
DTEND:20190221T010000Z
SUMMARY:Prime Time
END:VEVENT
END:VCALENDAR
