BEGIN:VCALENDAR
VERSION:2.0
PRODID:-//Squarespace Inc/Squarespace 6//v6//EN
BEGIN:VEVENT
UID:5c4509447924e87e3c6c99cf@squarespace.com
DTSTAMP:20190121T001132Z
DTSTART:20190222T210000Z
DTEND:20190222T230000Z
SUMMARY:WOK (Without Kids) Breakfast at Audley
END:VEVENT
END:VCALENDAR
