BEGIN:VCALENDAR
VERSION:2.0
PRODID:-//Squarespace Inc/Squarespace 6//v6//EN
BEGIN:VEVENT
UID:5c132f206d2a73e9d1e8e2fb@squarespace.com
DTSTAMP:20181214T041910Z
DTSTART:20190225T080000Z
DTEND:20190225T100000Z
SUMMARY:Overcomers Outreach
END:VEVENT
END:VCALENDAR
