BEGIN:VCALENDAR
VERSION:2.0
PRODID:-//Squarespace Inc/Squarespace 6//v6//EN
BEGIN:VEVENT
UID:5c132d43f950b792938a3fb8@squarespace.com
DTSTAMP:20181214T041117Z
DTSTART:20190204T083000Z
DTEND:20190204T093000Z
SUMMARY:Men's Prayer Night
END:VEVENT
END:VCALENDAR
