BEGIN:VCALENDAR
VERSION:2.0
PRODID:-//Squarespace Inc/Squarespace 6//v6//EN
BEGIN:VEVENT
UID:5c1331da03ce642c80e1cc26@squarespace.com
DTSTAMP:20181214T043054Z
DTSTART:20190208T080000Z
DTEND:20190208T103000Z
SUMMARY:Anchor Youth Begins
END:VEVENT
END:VCALENDAR
