BEGIN:VCALENDAR
VERSION:2.0
PRODID:-//Squarespace Inc/Squarespace 6//v6//EN
BEGIN:VEVENT
UID:5c1af483562fa7d15b15e890@squarespace.com
DTSTAMP:20181220T014707Z
DTSTART:20190316T023000Z
DTEND:20190316T053000Z
SUMMARY:Craft &amp\; Chat
END:VEVENT
END:VCALENDAR
