BEGIN:VCALENDAR
VERSION:2.0
PRODID:-//Squarespace Inc/Squarespace 6//v6//EN
BEGIN:VEVENT
UID:5c492500f950b772a65097cd@squarespace.com
DTSTAMP:20190131T045231Z
DTSTART:20190320T230000Z
DTEND:20190321T003000Z
SUMMARY:Prime Time
END:VEVENT
END:VCALENDAR
