BEGIN:VCALENDAR
VERSION:2.0
PRODID:-//Squarespace Inc/Squarespace 6//v6//EN
BEGIN:VEVENT
UID:5c132f4840ec9a09eeb902c2@squarespace.com
DTSTAMP:20181214T041946Z
DTSTART:20190325T080000Z
DTEND:20190325T100000Z
SUMMARY:Overcomers Outreach
END:VEVENT
END:VCALENDAR
