BEGIN:VCALENDAR
VERSION:2.0
PRODID:-//Squarespace Inc/Squarespace 6//v6//EN
BEGIN:VEVENT
UID:5c9566aa5bfa3f0001d1aca5@squarespace.com
DTSTAMP:20190322T225934Z
DTSTART:20190331T013000Z
DTEND:20190331T033000Z
SUMMARY:Welcome Lunch
END:VEVENT
END:VCALENDAR
