BEGIN:VCALENDAR
VERSION:2.0
PRODID:-//Squarespace Inc/Squarespace 6//v6//EN
BEGIN:VEVENT
UID:5c132d7370a6ad1559aaad63@squarespace.com
DTSTAMP:20181214T041156Z
DTSTART:20190304T083000Z
DTEND:20190304T093000Z
SUMMARY:Men's Prayer Night
END:VEVENT
END:VCALENDAR
