BEGIN:VCALENDAR
VERSION:2.0
PRODID:-//Squarespace Inc/Squarespace 6//v6//EN
BEGIN:VEVENT
UID:5c13320daa4a99798c7e5528@squarespace.com
DTSTAMP:20190216T051525Z
DTSTART:20190316T080000Z
DTEND:20190316T093000Z
SUMMARY:Men's Build Up Night
END:VEVENT
END:VCALENDAR
