BEGIN:VCALENDAR
VERSION:2.0
PRODID:-//Squarespace Inc/Squarespace 6//v6//EN
BEGIN:VEVENT
UID:5c132d986d2a73e9d1e8caac@squarespace.com
DTSTAMP:20190208T014400Z
DTSTART:20190401T083000Z
DTEND:20190401T093000Z
SUMMARY:Mission Prayer Night 
END:VEVENT
END:VCALENDAR
