BEGIN:VCALENDAR
VERSION:2.0
PRODID:-//Squarespace Inc/Squarespace 6//v6//EN
BEGIN:VEVENT
UID:5c13323ac2241b21d2e0c2a2@squarespace.com
DTSTAMP:20190306T225455Z
DTSTART:20190413T010000Z
DTEND:20190418T020000Z
SUMMARY:G7 Youth Week Away
END:VEVENT
END:VCALENDAR
