BEGIN:VCALENDAR
VERSION:2.0
PRODID:-//Squarespace Inc/Squarespace 6//v6//EN
BEGIN:VEVENT
UID:5c49251e88251b738e047936@squarespace.com
DTSTAMP:20190131T045250Z
DTSTART:20190418T000000Z
DTEND:20190418T013000Z
SUMMARY:Prime Time
END:VEVENT
END:VCALENDAR
