BEGIN:VCALENDAR
VERSION:2.0
PRODID:-//Squarespace Inc/Squarespace 6//v6//EN
BEGIN:VEVENT
UID:5cb2b884c830257d5637ba71@squarespace.com
DTSTAMP:20190414T050510Z
DTSTART:20190418T230000Z
DTEND:20190421T040000Z
SUMMARY:Celebrate Easter
END:VEVENT
END:VCALENDAR
