BEGIN:VCALENDAR
VERSION:2.0
PRODID:-//Squarespace Inc/Squarespace 6//v6//EN
BEGIN:VEVENT
UID:5c1af4ae4d7a9cdaa4faca60@squarespace.com
DTSTAMP:20190310T223438Z
DTSTART:20190413T033000Z
DTEND:20190413T063000Z
SUMMARY:Craft &amp\; Chat
END:VEVENT
END:VCALENDAR
