BEGIN:VCALENDAR
VERSION:2.0
PRODID:-//Squarespace Inc/Squarespace 6//v6//EN
BEGIN:VEVENT
UID:5c132f6d1ae6cf146b19c42a@squarespace.com
DTSTAMP:20181214T042023Z
DTSTART:20190422T090000Z
DTEND:20190422T110000Z
SUMMARY:Overcomers Outreach
END:VEVENT
END:VCALENDAR
