BEGIN:VCALENDAR
VERSION:2.0
PRODID:-//Squarespace Inc/Squarespace 6//v6//EN
BEGIN:VEVENT
UID:5cb2baefeb39315a7ce8c8f6@squarespace.com
DTSTAMP:20190423T065220Z
DTSTART:20190428T023000Z
DTEND:20190428T040000Z
SUMMARY:Growth Group Leaders Lunch &amp\; Term 2 Orientation
END:VEVENT
END:VCALENDAR
