BEGIN:VCALENDAR
VERSION:2.0
PRODID:-//Squarespace Inc/Squarespace 6//v6//EN
BEGIN:VEVENT
UID:5c13328388251b84e476f0c6@squarespace.com
DTSTAMP:20181214T043415Z
DTSTART:20190428T230000Z
DTEND:20190429T050000Z
SUMMARY:Pupil Free Day Kids Program
END:VEVENT
END:VCALENDAR
