BEGIN:VCALENDAR
VERSION:2.0
PRODID:-//Squarespace Inc/Squarespace 6//v6//EN
BEGIN:VEVENT
UID:5c4925458a922d0603f0d0d0@squarespace.com
DTSTAMP:20190131T045304Z
DTSTART:20190516T000000Z
DTEND:20190516T013000Z
SUMMARY:Prime Time
END:VEVENT
END:VCALENDAR
