BEGIN:VCALENDAR
VERSION:2.0
PRODID:-//Squarespace Inc/Squarespace 6//v6//EN
BEGIN:VEVENT
UID:5c1af4ce562fa7d15b15ec84@squarespace.com
DTSTAMP:20181220T014815Z
DTSTART:20190518T033000Z
DTEND:20190518T063000Z
SUMMARY:Craft &amp\; Chat
END:VEVENT
END:VCALENDAR
