BEGIN:VCALENDAR
VERSION:2.0
PRODID:-//Squarespace Inc/Squarespace 6//v6//EN
BEGIN:VEVENT
UID:5cb2cc84439f67000173aa77@squarespace.com
DTSTAMP:20190426T033243Z
DTSTART:20190505T023000Z
DTEND:20190505T040000Z
SUMMARY:Welcome Lunch
END:VEVENT
END:VCALENDAR
