BEGIN:VCALENDAR
VERSION:2.0
PRODID:-//Squarespace Inc/Squarespace 6//v6//EN
BEGIN:VEVENT
UID:5c132db688251b84e476b567@squarespace.com
DTSTAMP:20181214T041255Z
DTSTART:20190506T093000Z
DTEND:20190506T103000Z
SUMMARY:Men's Prayer Night
END:VEVENT
END:VCALENDAR
