BEGIN:VCALENDAR
VERSION:2.0
PRODID:-//Squarespace Inc/Squarespace 6//v6//EN
BEGIN:VEVENT
UID:5c1af4eaaa4a99bb24c4c8cb@squarespace.com
DTSTAMP:20181220T014842Z
DTSTART:20190615T033000Z
DTEND:20190615T063000Z
SUMMARY:Craft &amp\; Chat
END:VEVENT
END:VCALENDAR
