BEGIN:VCALENDAR
VERSION:2.0
PRODID:-//Squarespace Inc/Squarespace 6//v6//EN
BEGIN:VEVENT
UID:5c450b020e2e72c267d41064@squarespace.com
DTSTAMP:20190207T232910Z
DTSTART:20190629T083000Z
DTEND:20190629T110000Z
SUMMARY:WOK ( Without Kids) Pizza &amp\; Jazz at Heathcote Anglican Church 
END:VEVENT
END:VCALENDAR
