BEGIN:VCALENDAR
VERSION:2.0
PRODID:-//Squarespace Inc/Squarespace 6//v6//EN
BEGIN:VEVENT
UID:5c492566f950b772a6509c96@squarespace.com
DTSTAMP:20190131T045316Z
DTSTART:20190620T000000Z
DTEND:20190620T013000Z
SUMMARY:Prime Time
END:VEVENT
END:VCALENDAR
