BEGIN:VCALENDAR
VERSION:2.0
PRODID:-//Squarespace Inc/Squarespace 6//v6//EN
BEGIN:VEVENT
UID:5c132ffb575d1fee96a7c61c@squarespace.com
DTSTAMP:20181214T042243Z
DTSTART:20190624T090000Z
DTEND:20190624T110000Z
SUMMARY:Overcomers Outreach
END:VEVENT
END:VCALENDAR
