BEGIN:VCALENDAR
VERSION:2.0
PRODID:-//Squarespace Inc/Squarespace 6//v6//EN
BEGIN:VEVENT
UID:5c132dd1cd8366f54edece81@squarespace.com
DTSTAMP:20181214T041319Z
DTSTART:20190603T093000Z
DTEND:20190603T103000Z
SUMMARY:Men's Prayer Night
END:VEVENT
END:VCALENDAR
