BEGIN:VCALENDAR
VERSION:2.0
PRODID:-//Squarespace Inc/Squarespace 6//v6//EN
BEGIN:VEVENT
UID:5cc2764ceef1a11a2be60132@squarespace.com
DTSTAMP:20190512T103733Z
DTSTART:20190630T040000Z
DTEND:20190630T053000Z
SUMMARY:Post EQUIP Build up Arvo
END:VEVENT
END:VCALENDAR
