BEGIN:VCALENDAR
VERSION:2.0
PRODID:-//Squarespace Inc/Squarespace 6//v6//EN
BEGIN:VEVENT
UID:5cb2b121652dea064667ec0f@squarespace.com
DTSTAMP:20190510T010315Z
DTSTART:20190604T093000Z
DTEND:20190626T093000Z
SUMMARY:Christianity Explored
END:VEVENT
END:VCALENDAR
