BEGIN:VCALENDAR
VERSION:2.0
PRODID:-//Squarespace Inc/Squarespace 6//v6//EN
BEGIN:VEVENT
UID:5c132de903ce642c80e19a3b@squarespace.com
DTSTAMP:20181214T041342Z
DTSTART:20190701T093000Z
DTEND:20190701T103000Z
SUMMARY:Men's Prayer Night
END:VEVENT
END:VCALENDAR
