BEGIN:VCALENDAR
VERSION:2.0
PRODID:-//Squarespace Inc/Squarespace 6//v6//EN
BEGIN:VEVENT
UID:5c4925848a922d0603f0d2ea@squarespace.com
DTSTAMP:20190131T045330Z
DTSTART:20190718T000000Z
DTEND:20190718T013000Z
SUMMARY:Prime Time
END:VEVENT
END:VCALENDAR
