BEGIN:VCALENDAR
VERSION:2.0
PRODID:-//Squarespace Inc/Squarespace 6//v6//EN
BEGIN:VEVENT
UID:5c4925ab03ce64a987077437@squarespace.com
DTSTAMP:20190131T045343Z
DTSTART:20190815T000000Z
DTEND:20190815T013000Z
SUMMARY:Prime Time
END:VEVENT
END:VCALENDAR
