BEGIN:VCALENDAR
VERSION:2.0
PRODID:-//Squarespace Inc/Squarespace 6//v6//EN
BEGIN:VEVENT
UID:5c1af5220e2e729c83527e28@squarespace.com
DTSTAMP:20181220T014939Z
DTSTART:20190817T033000Z
DTEND:20190817T063000Z
SUMMARY:Craft &amp\; Chat
END:VEVENT
END:VCALENDAR
