BEGIN:VCALENDAR
VERSION:2.0
PRODID:-//Squarespace Inc/Squarespace 6//v6//EN
BEGIN:VEVENT
UID:5c1333e0cd8366f54edf174d@squarespace.com
DTSTAMP:20190724T085342Z
DTSTART:20190727T090000Z
DTEND:20190727T120000Z
SUMMARY:Men's Dinner
END:VEVENT
END:VCALENDAR
