BEGIN:VCALENDAR
VERSION:2.0
PRODID:-//Squarespace Inc/Squarespace 6//v6//EN
BEGIN:VEVENT
UID:5d4be78db51b2200013a1006@squarespace.com
DTSTAMP:20190808T092318Z
DTSTART:20190826T090000Z
DTEND:20190826T110000Z
SUMMARY:EQUIP Nights (for women)
END:VEVENT
END:VCALENDAR
