BEGIN:VCALENDAR
VERSION:2.0
PRODID:-//Squarespace Inc/Squarespace 6//v6//EN
BEGIN:VEVENT
UID:5c13305a0ebbe886df34a3db@squarespace.com
DTSTAMP:20181214T042418Z
DTSTART:20190826T090000Z
DTEND:20190826T110000Z
SUMMARY:Overcomers Outreach
END:VEVENT
END:VCALENDAR
