BEGIN:VCALENDAR
VERSION:2.0
PRODID:-//Squarespace Inc/Squarespace 6//v6//EN
BEGIN:VEVENT
UID:5c132dff575d1fee96a7ab3e@squarespace.com
DTSTAMP:20181214T041403Z
DTSTART:20190805T093000Z
DTEND:20190805T103000Z
SUMMARY:Men's Prayer Night
END:VEVENT
END:VCALENDAR
