BEGIN:VCALENDAR
VERSION:2.0
PRODID:-//Squarespace Inc/Squarespace 6//v6//EN
BEGIN:VEVENT
UID:5c1af53cf950b7068a9529dc@squarespace.com
DTSTAMP:20190510T053640Z
DTSTART:20190921T033000Z
DTEND:20190921T063000Z
SUMMARY:Craft &amp\; Chat
END:VEVENT
END:VCALENDAR
