BEGIN:VCALENDAR
VERSION:2.0
PRODID:-//Squarespace Inc/Squarespace 6//v6//EN
BEGIN:VEVENT
UID:5c4925c8f950b772a650a099@squarespace.com
DTSTAMP:20190131T045357Z
DTSTART:20190919T000000Z
DTEND:20190919T013000Z
SUMMARY:Prime Time
END:VEVENT
END:VCALENDAR
