BEGIN:VCALENDAR
VERSION:2.0
PRODID:-//Squarespace Inc/Squarespace 6//v6//EN
BEGIN:VEVENT
UID:5c132e1af950b792938a5a16@squarespace.com
DTSTAMP:20181214T041432Z
DTSTART:20190902T093000Z
DTEND:20190902T103000Z
SUMMARY:Men's Prayer Night
END:VEVENT
END:VCALENDAR
