BEGIN:VCALENDAR
VERSION:2.0
PRODID:-//Squarespace Inc/Squarespace 6//v6//EN
BEGIN:VEVENT
UID:5c13307ccd8366f54edef038@squarespace.com
DTSTAMP:20181214T042452Z
DTSTART:20190923T090000Z
DTEND:20190923T110000Z
SUMMARY:Overcomers Outreach
END:VEVENT
END:VCALENDAR
